BEGIN:VCALENDAR
VERSION:2.0
PRODID:-//BOAPBC - ECPv6.15.18//NONSGML v1.0//EN
CALSCALE:GREGORIAN
METHOD:PUBLISH
X-WR-CALNAME:BOAPBC
X-ORIGINAL-URL:https://boapbcgov.org
X-WR-CALDESC:Events for BOAPBC
REFRESH-INTERVAL;VALUE=DURATION:PT1H
X-Robots-Tag:noindex
X-PUBLISHED-TTL:PT1H
BEGIN:VTIMEZONE
TZID:UTC
BEGIN:STANDARD
TZOFFSETFROM:+0000
TZOFFSETTO:+0000
TZNAME:UTC
DTSTART:20250101T000000
END:STANDARD
END:VTIMEZONE
BEGIN:VEVENT
DTSTART;TZID=UTC:20260319T120000
DTEND;TZID=UTC:20260319T130000
DTSTAMP:20260423T114630
CREATED:20260303T194257Z
LAST-MODIFIED:20260303T194322Z
UID:440-1773921600-1773925200@boapbcgov.org
SUMMARY:BOAPBC Monthly Meeting - March 2026
DESCRIPTION:Chapter meetings are the 3rd Thursday of every month at 2300 N Jog Rd at 12 PM.
URL:https://boapbcgov.org/event/boapbc-monthly-meeting-march-2026/
LOCATION:BOAPBC\, 2300 N. Jog Road\, West Palm Beach\, FL\, 33411
CATEGORIES:Chapter Meetings
ATTACH;FMTTYPE=image/png:https://boapbcgov.org/wp-content/uploads/sites/12/2024/08/Logo.png
END:VEVENT
BEGIN:VEVENT
DTSTART;TZID=UTC:20260416T120000
DTEND;TZID=UTC:20260416T130000
DTSTAMP:20260423T114630
CREATED:20260303T194408Z
LAST-MODIFIED:20260303T194408Z
UID:441-1776340800-1776344400@boapbcgov.org
SUMMARY:BOAPBC Monthly Meeting - April 2026
DESCRIPTION:Chapter meetings are the 3rd Thursday of every month at 2300 N Jog Rd at 12 PM.
URL:https://boapbcgov.org/event/boapbc-monthly-meeting-april-2026/
LOCATION:BOAPBC\, 2300 N. Jog Road\, West Palm Beach\, FL\, 33411
CATEGORIES:Chapter Meetings
ATTACH;FMTTYPE=image/png:https://boapbcgov.org/wp-content/uploads/sites/12/2024/08/Logo.png
END:VEVENT
BEGIN:VEVENT
DTSTART;TZID=UTC:20260516T100000
DTEND;TZID=UTC:20260516T140000
DTSTAMP:20260423T114630
CREATED:20260421T210105Z
LAST-MODIFIED:20260421T210749Z
UID:447-1778925600-1778940000@boapbcgov.org
SUMMARY:2026 Annual Picnic
DESCRIPTION:May 16\, 2026 @ 10:00 am – 2:00 pm \nPalm Beach Yacht Center 7848 South Federal Hwy\, Lantana\, FL\, United States \nRegister for as a Participant and/or Sponsor Here  \nhttps://boapbc.regfox.com/boapbc-picnic-2026
URL:https://boapbcgov.org/event/2026-annual-picnic/
LOCATION:Palm Beach Yacht Center\, 7848 South Federal Hwy\, Lantana\, FL\, 33462\, United States
CATEGORIES:Events
ATTACH;FMTTYPE=image/png:https://boapbcgov.org/wp-content/uploads/sites/12/2026/04/Flyer-with-QR-Code.png
END:VEVENT
BEGIN:VEVENT
DTSTART;TZID=UTC:20260521T120000
DTEND;TZID=UTC:20260521T130000
DTSTAMP:20260423T114630
CREATED:20260406T135732Z
LAST-MODIFIED:20260406T135732Z
UID:443-1779364800-1779368400@boapbcgov.org
SUMMARY:BOAPBC Monthly Meeting -May 2026
DESCRIPTION:Chapter meetings are the 3rd Thursday of every month at 2300 N Jog Rd at 12 PM.
URL:https://boapbcgov.org/event/boapbc-monthly-meeting-may-2026/
LOCATION:FL
CATEGORIES:Chapter Meetings
ATTACH;FMTTYPE=image/png:https://boapbcgov.org/wp-content/uploads/sites/12/2024/08/Logo.png
END:VEVENT
BEGIN:VEVENT
DTSTART;TZID=UTC:20260529T080000
DTEND;TZID=UTC:20260529T160000
DTSTAMP:20260423T114630
CREATED:20260421T210502Z
LAST-MODIFIED:20260421T210502Z
UID:448-1780041600-1780070400@boapbcgov.org
SUMMARY:Building Safety Conference & Expo
DESCRIPTION:Friday\, May 29th @ 8:00am – 4:00 pm \nAirport Hilton Hotel 150 Australian Avenue\, West Palm Beach\, FL \nRegister for as a Participant and/or Exhibitor Here:  \nhttps://forms.office.com/g/y7QpahHc2u \nFind the event flyer here.
URL:https://boapbcgov.org/event/building-safety-conference-expo-2/
LOCATION:Airport Hilton Hotel\, 150 Australian Avenue\, West Palm Beach\, Florida\, 33406\, United States
CATEGORIES:Events
ATTACH;FMTTYPE=application/pdf:https://boapbcgov.org/wp-content/uploads/sites/12/2026/04/Building-Safety-Event-2026.pdf
END:VEVENT
BEGIN:VEVENT
DTSTART;TZID=UTC:20260613T073000
DTEND;TZID=UTC:20260613T140000
DTSTAMP:20260423T114630
CREATED:20260421T210753Z
LAST-MODIFIED:20260421T210753Z
UID:452-1781335800-1781359200@boapbcgov.org
SUMMARY:2026 Fishing Tournament
DESCRIPTION:June 13\, 2026 @ 7:30 am – 2:00 pm \nMicanopy Pavilion 7715 Forest Hill Blvd\, W.P.B.\, FL\, United States \nRegister for as a Participant and/or Sponsor Here: https://boapbc.regfox.com/fishing-tournament-2026 \nGet the event flyer here.
URL:https://boapbcgov.org/event/2026-fishing-tournament/
LOCATION:Micanopy Pavilion\, 7715 Forest Hill Blvd\, West Palm Beach\, FL\, 33413\, United States
CATEGORIES:Events
ATTACH;FMTTYPE=application/pdf:https://boapbcgov.org/wp-content/uploads/sites/12/2026/04/2026-Fishing-Tournament-Flyer-with-date.pdf
END:VEVENT
BEGIN:VEVENT
DTSTART;TZID=UTC:20260618T120000
DTEND;TZID=UTC:20260618T130000
DTSTAMP:20260423T114630
CREATED:20260421T210943Z
LAST-MODIFIED:20260421T210943Z
UID:455-1781784000-1781787600@boapbcgov.org
SUMMARY:BOAPBC Monthly Meeting- June 2026
DESCRIPTION:June 18th @ 12:00 pm – 1:00 pm \nBOAPBC 2300 N. Jog Road\, West Palm Beach\, FL \nChapter meetings are the 3rd Thursday 
URL:https://boapbcgov.org/event/boapbc-monthly-meeting-june-2026/
LOCATION:BOAPBC\, 2300 N. Jog Road\, West Palm Beach\, FL\, 33411
CATEGORIES:Chapter Meetings
ATTACH;FMTTYPE=image/png:https://boapbcgov.org/wp-content/uploads/sites/12/2024/08/Logo.png
END:VEVENT
BEGIN:VEVENT
DTSTART;TZID=UTC:20260716T120000
DTEND;TZID=UTC:20260716T130000
DTSTAMP:20260423T114630
CREATED:20260421T211029Z
LAST-MODIFIED:20260421T211301Z
UID:456-1784203200-1784206800@boapbcgov.org
SUMMARY:BOAPBC Monthly Meeting- July 2026
DESCRIPTION:July 16th @ 12:00 pm – 1:00 pm \nBOAPBC 2300 N. Jog Road\, West Palm Beach\, FL \nChapter meetings are the 3rd Thursday 
URL:https://boapbcgov.org/event/boapbc-monthly-meeting-july-2026/
LOCATION:BOAPBC\, 2300 N. Jog Road\, West Palm Beach\, FL\, 33411
CATEGORIES:Chapter Meetings
ATTACH;FMTTYPE=image/png:https://boapbcgov.org/wp-content/uploads/sites/12/2024/08/Logo.png
END:VEVENT
BEGIN:VEVENT
DTSTART;TZID=UTC:20260917T120000
DTEND;TZID=UTC:20260917T130000
DTSTAMP:20260423T114630
CREATED:20260421T211130Z
LAST-MODIFIED:20260421T211255Z
UID:457-1789646400-1789650000@boapbcgov.org
SUMMARY:BOAPBC Monthly Meeting- September 2026
DESCRIPTION:September 17th @ 12:00 pm – 1:00 pm \nBOAPBC 2300 N. Jog Road\, West Palm Beach\, FL \nChapter meetings are the 3rd Thursday
URL:https://boapbcgov.org/event/boapbc-monthly-meeting-september-2026/
LOCATION:BOAPBC\, 2300 N. Jog Road\, West Palm Beach\, FL\, 33411
CATEGORIES:Chapter Meetings
ATTACH;FMTTYPE=image/png:https://boapbcgov.org/wp-content/uploads/sites/12/2024/08/Logo.png
END:VEVENT
BEGIN:VEVENT
DTSTART;TZID=UTC:20261015T120000
DTEND;TZID=UTC:20261015T130000
DTSTAMP:20260423T114630
CREATED:20260421T211227Z
LAST-MODIFIED:20260421T211227Z
UID:458-1792065600-1792069200@boapbcgov.org
SUMMARY:BOAPBC Monthly Meeting- October 2026
DESCRIPTION:October 15th @ 12:00 pm – 1:00 pm \nBOAPBC 2300 N. Jog Road\, West Palm Beach\, FL \nChapter meetings are the 3rd Thursday 
URL:https://boapbcgov.org/event/boapbc-monthly-meeting-october-2026/
LOCATION:BOAPBC\, 2300 N. Jog Road\, West Palm Beach\, FL\, 33411
CATEGORIES:Chapter Meetings
ATTACH;FMTTYPE=image/png:https://boapbcgov.org/wp-content/uploads/sites/12/2024/08/Logo.png
END:VEVENT
BEGIN:VEVENT
DTSTART;TZID=UTC:20261119T120000
DTEND;TZID=UTC:20261119T130000
DTSTAMP:20260423T114630
CREATED:20260421T212352Z
LAST-MODIFIED:20260421T212352Z
UID:459-1795089600-1795093200@boapbcgov.org
SUMMARY:BOAPBC Monthly Meeting- November 2026
DESCRIPTION:November 19th @ 12:00 pm – 1:00 pm \nBOAPBC 2300 N. Jog Road\, West Palm Beach\, FL \nChapter meetings are the 3rd Thursday
URL:https://boapbcgov.org/event/boapbc-monthly-meeting-november-2026/
LOCATION:BOAPBC\, 2300 N. Jog Road\, West Palm Beach\, FL\, 33411
ATTACH;FMTTYPE=image/png:https://boapbcgov.org/wp-content/uploads/sites/12/2024/08/Logo.png
END:VEVENT
END:VCALENDAR